BEGIN:VCALENDAR
VERSION:2.0
PRODID:-//www.luetzelflueh.ch//NONSGML kigkonsult.se iCalcreator 2.22//
CALSCALE:GREGORIAN
METHOD:PUBLISH
X-WR-TIMEZONE:Europe/Berlin
BEGIN:VEVENT
UID:20260419T223613CEST-9758urO2fo@www.luetzelflueh.ch
DTSTAMP:20260419T203613Z
DESCRIPTION:Klicken Sie auf den folgenden Link\, um weitere Informationen z
 ur Veranstaltung zu erhalten:\nhttp://www.luetzelflueh.ch/de/veranstaltung
 en/detail/detail.php?i=804
DTSTART:20240127T173000
DTEND:20240128T030000
LOCATION:Mehrzweckhalle Emmenschachen
SUMMARY:Raclettechilbi DTV Lützelflüh
END:VEVENT
END:VCALENDAR
