BEGIN:VCALENDAR
VERSION:2.0
PRODID:-//www.luetzelflueh.ch//NONSGML kigkonsult.se iCalcreator 2.22//
CALSCALE:GREGORIAN
METHOD:PUBLISH
X-WR-TIMEZONE:Europe/Berlin
BEGIN:VEVENT
UID:20260419T223613CEST-1195sd8ubp@www.luetzelflueh.ch
DTSTAMP:20260419T203613Z
DESCRIPTION:Klicken Sie auf den folgenden Link\, um weitere Informationen z
 ur Veranstaltung zu erhalten:\nhttp://www.luetzelflueh.ch/de/veranstaltung
 en/detail/detail.php?i=808
DTSTART:20240119T201500
DTEND:20240119T230000
LOCATION:Kulturmühle Lützelflüh
SUMMARY:Zapjevala
END:VEVENT
END:VCALENDAR
