BEGIN:VCALENDAR
VERSION:2.0
PRODID:-//www.luetzelflueh.ch//NONSGML kigkonsult.se iCalcreator 2.22//
CALSCALE:GREGORIAN
METHOD:PUBLISH
X-WR-TIMEZONE:Europe/Berlin
BEGIN:VEVENT
UID:20260419T223612CEST-9784d0tvvW@www.luetzelflueh.ch
DTSTAMP:20260419T203612Z
DESCRIPTION:Klicken Sie auf den folgenden Link\, um weitere Informationen z
 ur Veranstaltung zu erhalten:\nhttp://www.luetzelflueh.ch/de/veranstaltung
 en/detail/detail.php?i=816
DTSTART:20240126T190000
DTEND:20240211T170000
LOCATION:Kulturmühle Lützelflüh
SUMMARY:Ausstellung mit Ueli Bieri\, Monique Duplain und René Jau
END:VEVENT
END:VCALENDAR
