BEGIN:VCALENDAR
VERSION:2.0
PRODID:-//www.luetzelflueh.ch//NONSGML kigkonsult.se iCalcreator 2.22//
CALSCALE:GREGORIAN
METHOD:PUBLISH
X-WR-TIMEZONE:Europe/Berlin
BEGIN:VEVENT
UID:20260419T223633CEST-6981wuOTHz@www.luetzelflueh.ch
DTSTAMP:20260419T203633Z
DESCRIPTION:Klicken Sie auf den folgenden Link\, um weitere Informationen z
 ur Veranstaltung zu erhalten:\nhttp://www.luetzelflueh.ch/de/veranstaltung
 en/detail/detail.php?i=817
DTSTART:20250324T170000
DTEND:20250324T200000
LOCATION:Mehrzweckanlage Emmenschachen
SUMMARY:Blutspenden
END:VEVENT
END:VCALENDAR
