BEGIN:VCALENDAR
VERSION:2.0
PRODID:-//www.luetzelflueh.ch//NONSGML kigkonsult.se iCalcreator 2.22//
CALSCALE:GREGORIAN
METHOD:PUBLISH
X-WR-TIMEZONE:Europe/Berlin
BEGIN:VEVENT
UID:20260425T145243CEST-0607Ogn30U@www.luetzelflueh.ch
DTSTAMP:20260425T125243Z
DESCRIPTION:Klicken Sie auf den folgenden Link\, um weitere Informationen z
 ur Veranstaltung zu erhalten:\nhttp://www.luetzelflueh.ch/de/veranstaltung
 en/detail/detail.php?i=922
DTSTART:20260601T193000
DTEND:20260601T213000
LOCATION:Mehrzweckanlage Grünenmatt
SUMMARY:Gemeindeversammlung
END:VEVENT
END:VCALENDAR
