BEGIN:VCALENDAR
VERSION:2.0
PRODID:-//www.luetzelflueh.ch//NONSGML kigkonsult.se iCalcreator 2.22//
CALSCALE:GREGORIAN
METHOD:PUBLISH
X-WR-TIMEZONE:Europe/Berlin
BEGIN:VEVENT
UID:20260422T091650CEST-23930FAJVa@www.luetzelflueh.ch
DTSTAMP:20260422T071650Z
DESCRIPTION:Klicken Sie auf den folgenden Link\, um weitere Informationen z
 ur Veranstaltung zu erhalten:\nhttp://www.luetzelflueh.ch/de/veranstaltung
 en/detail/detail.php?i=960
DTSTART:20260508T193000
DTEND:20260508T220000
LOCATION:Gotthelf Zentrum
SUMMARY:Kickoff-Event Theaterproduktion 2027
END:VEVENT
END:VCALENDAR
