BEGIN:VCALENDAR
VERSION:2.0
PRODID:-//www.luetzelflueh.ch//NONSGML kigkonsult.se iCalcreator 2.22//
CALSCALE:GREGORIAN
METHOD:PUBLISH
X-WR-TIMEZONE:Europe/Berlin
BEGIN:VEVENT
UID:20260424T142027CEST-76363cdUkW@www.luetzelflueh.ch
DTSTAMP:20260424T122027Z
DESCRIPTION:Klicken Sie auf den folgenden Link\, um weitere Informationen z
 ur Veranstaltung zu erhalten:\nhttp://www.luetzelflueh.ch/de/veranstaltung
 en/detail/detail.php?i=961
DTSTART:20260501T000000
DTEND:20260531T235500
LOCATION:Gemeindegebiet Lützelflüh
SUMMARY:Schweiz.bewegt
END:VEVENT
END:VCALENDAR
